BEGIN:VCALENDAR
VERSION:2.0
PRODID:-//eventon.com NONSGML v1.0//EN
BEGIN:VEVENT
UID:69ea536eec8ba
DTSTAMP:20260423T131422
DTSTART:20241221T000000Z
DTEND:20241221T045000Z
TZID:America/New_York
LOCATION:Mick & Angelo's Eatery and Bar 7600 Lundy's Lane Niagara Falls\,  ON L2H 1H1
SUMMARY:2 Man Group
DESCRIPTION: 2 Man Group brings their live music to Mick & Angelo&#8217;s.  Come on down and enjoy specialty drinks\,  a tantalizing new menu and great music in this upbeat eatery.\nhttps://lundyslane.com/events/2-man-group-3/
URL:https://lundyslane.com/events/2-man-group-3/
END:VEVENT
END:VCALENDAR