BEGIN:VCALENDAR
VERSION:2.0
PRODID:-//eventon.com NONSGML v1.0//EN
BEGIN:VEVENT
UID:69eae2e06e86e
DTSTAMP:20260423T232624
DTSTART:20200111T213000Z
DTEND:20200111T234500Z
TZID:UTC
LOCATION:Doc Magilligan's Restaurant Irish Pub 6400 Lundy's Lane Niagara Falls L2H 1H3
SUMMARY:351 Cleveland
DESCRIPTION: The Band 351 Cleveland performs live at Doc Magilligan&#8217;s on Lundy&#8217;s Lane in Niagara Falls. Catch the show at 9:30 PM.\nhttps://lundyslane.com/events/351-cleveland/
URL:https://lundyslane.com/events/351-cleveland/
END:VEVENT
END:VCALENDAR