BEGIN:VCALENDAR
VERSION:2.0
PRODID:-//eventon.com NONSGML v1.0//EN
BEGIN:VEVENT
UID:69ecef206d95c
DTSTAMP:20260425T124312
DTSTART:20190816T213000Z
DTEND:20190816T234500Z
TZID:UTC
LOCATION:Doc Magilligan's Restaurant Irish Pub 6400 Lundy's Lane Niagara Falls L2H 1H3
SUMMARY:Max Hillier Band
DESCRIPTION: The Max Hillier Band will be making their first appearance at Doc&#8217;s this Saturday.  This band will keep you rocking all night long. Enjoy authentic Irish food and decor.  Enjoy a pint and Niagara Falls&#8217; best live music\,  every Thursday through Saturday night at Doc&#8217;s!\nhttps://lundyslane.com/events/max-hillier-band/
URL:https://lundyslane.com/events/max-hillier-band/
END:VEVENT
END:VCALENDAR