BEGIN:VCALENDAR
VERSION:2.0
PRODID:-//eventon.com NONSGML v1.0//EN
BEGIN:VEVENT
UID:69e4da8d0620a
DTSTAMP:20260419T093717
DTSTART:20250213T020000Z
DTEND:20250213T045000Z
TZID:America/New_York
LOCATION:Doc Magilligan's Restaurant Irish Pub 6400 Lundy's Lane Niagara Falls L2H 1H3
SUMMARY:Kill Bill
DESCRIPTION: Kill Bill perform on stage from 9.00 pm &#8211; 1:00 am.  Enjoy an entertaining evening out with live music\,  comfort food and a huge selection of drinks.\nhttps://lundyslane.com/events/kill-bill/
URL:https://lundyslane.com/events/kill-bill/
END:VEVENT
END:VCALENDAR