BEGIN:VCALENDAR
VERSION:2.0
PRODID:-//eventon.com NONSGML v1.0//EN
BEGIN:VEVENT
UID:69e4f21f5aa74
DTSTAMP:20260419T111751
DTSTART:20240716T230000Z
DTEND:20240716T130000Z
TZID:America/New_York
LOCATION:Doc Magilligan's Restaurant Irish Pub 6400 Lundy's Lane Niagara Falls L2H 1H3
SUMMARY:Music Trivia - With Ryan
DESCRIPTION: Doc Magilligan&#8217;s is excited to announce their new &#8216;music trivia&#8217; night with Ryan on Tuesday night&#8217;s from 7pm. Join them in the back of the pub for an evening full of fun while you put your music knowledge to the test. Here’s what you need to know: • It’s free[..]\nhttps://lundyslane.com/events/music-trivia-night-with-ryan/
URL:https://lundyslane.com/events/music-trivia-night-with-ryan/
END:VEVENT
END:VCALENDAR