BEGIN:VCALENDAR
VERSION:2.0
PRODID:-//eventon.com NONSGML v1.0//EN
BEGIN:VEVENT
UID:69ecef8cd4e47
DTSTAMP:20260425T124500
DTSTART:20220827T200000Z
DTEND:20220827T235000Z
TZID:UTC
LOCATION:Doc Magilligan's Restaurant Irish Pub 6400 Lundy's Lane Niagara Falls L2H 1H3
SUMMARY:Declan The Paddyman Music
DESCRIPTION: The Paddyman will be on stage this Thursday at 7pm.  Come on down for an exciting night of engaging live music\,  great beverages and bites.   &nbsp;\nhttps://lundyslane.com/events/declan-the-paddyman-music/
URL:https://lundyslane.com/events/declan-the-paddyman-music/
END:VEVENT
END:VCALENDAR