BEGIN:VCALENDAR
VERSION:2.0
PRODID:-//eventon.com NONSGML v1.0//EN
BEGIN:VEVENT
UID:69ea3ec21f35a
DTSTAMP:20260423T114610
DTSTART:20240814T230000Z
DTEND:20240815T035000Z
TZID:America/New_York
LOCATION:Mick & Angelo's Eatery and Bar 7600 Lundy's Lane Niagara Falls\,  ON L2H 1H1
SUMMARY:Neon Dirty
DESCRIPTION: Neon Dirty make their debut on the patio at Mick & Angelo&#8217;s.  Enjoy a fun evening out with impressive summer drinks specials and a tantalizing menu on one of Niagara&#8217;s best patios for live music.\nhttps://lundyslane.com/events/neon-dirty/
URL:https://lundyslane.com/events/neon-dirty/
END:VEVENT
END:VCALENDAR